BEGIN:VCALENDAR
VERSION:2.0
PRODID:-//Squarespace Inc/Squarespace 6//v6//EN
BEGIN:VEVENT
UID:5d80a8bb4c34bc48add56dac@squarespace.com
DTSTAMP:20190917T093941Z
DTSTART:20191109T150000Z
DTEND:20191109T160000Z
SUMMARY:Right Place Right Plant 
GEO:-36.79987;175.035396
LOCATION:Garden 5 Waiheke Garden Festival 2019\, 8 Shelley Beach Road\, Wai
 heke Island\, New Zealand
END:VEVENT
END:VCALENDAR
